BEGIN:VCALENDAR
VERSION:2.0
PRODID:icalendar-ruby
CALSCALE:GREGORIAN
METHOD:PUBLISH
BEGIN:VEVENT
DTSTAMP:20260421T054558Z
UID:33-422063@trinvalp.com
DTSTART:20260920T153000Z
DTEND:20260920T163000Z
CLASS:PUBLIC
CREATED:20260420T193649
DESCRIPTION:
LAST-MODIFIED:20260420T193649
LOCATION:44 Southview Avenue Valparaiso\, FL 32580
SUMMARY:Covenant Renewal Worship
URL;VALUE=URI:https://www.trinvalp.com/events/covenant-renewal-worship/2026
 -09-20
ATTACH;FILENAME=Bulletin 18 (04-19-2026) - Easter 3.pdf;FMTTYPE=application
 /pdf:https://dq5pwpg1q8ru0.cloudfront.net/2026/04/14/21/39/52/eb52fdf8-205
 3-4cf6-b422-34d48101cd25/Bulletin%2018%20(04-19-2026)%20-%20Easter%203.pdf
END:VEVENT
END:VCALENDAR
