BEGIN:VCALENDAR
VERSION:2.0
PRODID:icalendar-ruby
CALSCALE:GREGORIAN
METHOD:PUBLISH
BEGIN:VEVENT
DTSTAMP:20260421T134033Z
UID:33-422413@trinvalp.com
DTSTART:20261101T163000Z
DTEND:20261101T173000Z
CLASS:PUBLIC
CREATED:20260421T064319
DESCRIPTION:
LAST-MODIFIED:20260421T064319
LOCATION:44 Southview Avenue Valparaiso\, FL 32580
SUMMARY:Covenant Renewal Worship
URL;VALUE=URI:https://www.trinvalp.com/events/covenant-renewal-worship/2026
 -11-01
ATTACH;FILENAME=Bulletin 18 (04-19-2026) - Easter 3.pdf;FMTTYPE=application
 /pdf:https://dq5pwpg1q8ru0.cloudfront.net/2026/04/14/21/39/52/eb52fdf8-205
 3-4cf6-b422-34d48101cd25/Bulletin%2018%20(04-19-2026)%20-%20Easter%203.pdf
END:VEVENT
END:VCALENDAR
